BEGIN:VCALENDAR
VERSION:2.0
PRODID:-//hacksw/handcal//NONSGML v1.0//EN
CALSCALE:GREGORIAN
BEGIN:VEVENT
DTSTART:20180410T100000Z
DTEND:20180410T110000Z
UID:e10092
DTSTAMP:20260422T130546Z
LOCATION:Nella and Leon Benoziyo Building for Biological Sciences
DESCRIPTION:Institute of Organic Chemistry and Biochemistry of the CAS
SUMMARY:Cell Penetration and Membrane Fusion: Two Sides of the Same Coin
END:VEVENT
END:VCALENDAR