BEGIN:VCALENDAR
VERSION:2.0
PRODID:-//hacksw/handcal//NONSGML v1.0//EN
CALSCALE:GREGORIAN
BEGIN:VEVENT
DTSTART:20190430T103000Z
DTEND:20190430T110000Z
UID:e12072
DTSTAMP:20260423T155700Z
LOCATION:Nella and Leon Benoziyo Building for Biological Sciences
DESCRIPTION:Department of Biomolecular Sciences-WIS
SUMMARY:The title and abstract for my departmental seminar are attached as requested
END:VEVENT
END:VCALENDAR