BEGIN:VCALENDAR
VERSION:2.0
PRODID:-//hacksw/handcal//NONSGML v1.0//EN
CALSCALE:GREGORIAN
BEGIN:VEVENT
DTSTART:20170606T100000Z
DTEND:20170606T103000Z
UID:e7157
DTSTAMP:20260423T204708Z
LOCATION:Wolfson Building for Biological Research
DESCRIPTION:Members - Dept. of Biomolecular Sciences-WIS  
SUMMARY:Regulating the 20S proteasome degradation pathway
END:VEVENT
END:VCALENDAR