BEGIN:VCALENDAR
VERSION:2.0
PRODID:-//hacksw/handcal//NONSGML v1.0//EN
CALSCALE:GREGORIAN
BEGIN:VEVENT
DTSTART:20170516T100000Z
DTEND:20170516T103000Z
UID:e7783
DTSTAMP:20260422T061053Z
LOCATION:Wolfson Building for Biological Research
DESCRIPTION:Member - Dept. of Biomolecular Sciences-WIS  
SUMMARY:Novel role of autophagy in the regulation of the TNFR family member, Fn14
END:VEVENT
END:VCALENDAR