BEGIN:VCALENDAR
VERSION:2.0
PRODID:-//hacksw/handcal//NONSGML v1.0//EN
CALSCALE:GREGORIAN
BEGIN:VEVENT
DTSTART:20171205T110000Z
DTEND:20171205T120000Z
UID:e9629
DTSTAMP:20260423T043016Z
LOCATION:Nella and Leon Benoziyo Building for Biological Sciences
DESCRIPTION:Dept. of Molecular Medicine
The Scripps Research Institute,CA
SUMMARY:Activity-based proteomics – protein and ligand discovery on a global scale
END:VEVENT
END:VCALENDAR