    BEGIN:VCALENDAR
VERSION:2.0
PRODID:-//hacksw/handcal//NONSGML v1.0//EN
  CALSCALE:GREGORIAN
BEGIN:VEVENT
DTSTART:20230612T000000Z
DTEND:20230616T000000Z
UID:w103
DTSTAMP:20260424T065755Z
DESCRIPTION:<p>The conference aims to bring together experts in nonlinear physics, nonlinear waves and applied mathematics to address and cross fertilize three main branches of nonlinear science: Solitons, Collapses and Turbulence. Solitons are studied by combining the inverse scattering transform and recent approaches to exact integrable and near integrable models. Strongly nonlinear wave phenomena often result in finite time singularity formation by wave collapse. Both solitons and collapses provide a pathway to turbulence and chaos. A wide range of applications of nonlinear science will be included such as nonlinear optics, plasma physics, Bose-Einstein condensate, hydrodynamics, astrophysics and condensed matter.</p>

SUMMARY:Solitons, Collapses and Turbulence
END:VEVENT
END:VCALENDAR