    BEGIN:VCALENDAR
VERSION:2.0
PRODID:-//hacksw/handcal//NONSGML v1.0//EN
  CALSCALE:GREGORIAN
BEGIN:VEVENT
DTSTART:20240324T000000Z
DTEND:20240326T000000Z
UID:w109
DTSTAMP:20260425T182300Z
DESCRIPTION:<p>This short meeting will bring together experts from Israel and abroad to discuss topics at the forefront of condensed matter physics, including novel quantum materials, exotic phases of matter, superconductivity, transport beyond the Boltzmann paradigm, and advances in experimental and theoretical techniques.</p>

SUMMARY:New Frontiers in Quantum Matter
END:VEVENT
END:VCALENDAR