    BEGIN:VCALENDAR
VERSION:2.0
PRODID:-//hacksw/handcal//NONSGML v1.0//EN
  CALSCALE:GREGORIAN
BEGIN:VEVENT
DTSTART:20171105T000000Z
DTEND:20171116T000000Z
UID:w23
DTSTAMP:20260424T234049Z
DESCRIPTION:<p>In this workshop we attempt to expand our searches and deepen our understanding of dark matter particles as well as other light force mediators. We plan to do so both theoretically and via experimental effort. Direct dark matter searches are expected to progress with the expected results from the upcoming XENON1T, LZ and super CDMS experiments and the future Darwin experiment. Further insight is to be achieved at the precision frontier of atomic physics. Special focus will be given to non-traditional experimental approaches and techniques.</p>

SUMMARY:BSM in direct, indirect and tabletop experiments
END:VEVENT
END:VCALENDAR