    BEGIN:VCALENDAR
VERSION:2.0
PRODID:-//hacksw/handcal//NONSGML v1.0//EN
  CALSCALE:GREGORIAN
BEGIN:VEVENT
DTSTART:20181203T000000Z
DTEND:20181213T000000Z
UID:w33
DTSTAMP:20260424T095734Z
DESCRIPTION:<p>The workshop will focus on the nature of Fast Radio Bursts (FRB), theory and observations.<br />
FRBs are dispersed millisecond-duration pulses observed at the GHz frequencies.<br />
First reported in 2007 by Lorimer et al., FRBs are still poorly understood.<br />
Recent progress in observations start to shed light on the nature of FRBs. It is expected that new observations, as well as new instrumentation, will keep fueling the FRB revolution.</p>

SUMMARY:The origin of Fast Radio Bursts
END:VEVENT
END:VCALENDAR