    BEGIN:VCALENDAR
VERSION:2.0
PRODID:-//hacksw/handcal//NONSGML v1.0//EN
  CALSCALE:GREGORIAN
BEGIN:VEVENT
DTSTART:20181217T000000Z
DTEND:20190104T000000Z
UID:w36
DTSTAMP:20260424T032659Z
DESCRIPTION:<p>The workshop is aimed at bringing together leading researchers active in the broad field of theoretical and experimental fluid mechanics, fostering open discussions and exploring new directions of research in this rapidly evolving field. Topics that will be covered include turbulence onset and turbulence-flow interaction, complex fluids, viscous electronics, etc. The goal is to encourage cross-field interaction.</p>

SUMMARY:Fluid flows, from graphene to planet atmospheres
END:VEVENT
END:VCALENDAR