    BEGIN:VCALENDAR
VERSION:2.0
PRODID:-//hacksw/handcal//NONSGML v1.0//EN
  CALSCALE:GREGORIAN
BEGIN:VEVENT
DTSTART:20191026T000000Z
DTEND:20191101T000000Z
UID:w54
DTSTAMP:20260424T144152Z
DESCRIPTION:<p>The workshop will enable a common learning space<strong> </strong>to physicists, sociologists and gender experts, and practitioners promoting gender diversity in physics in universities and research institutes around the world. The format will consist of a small number of open-ended presentations per day that develop into free discussions.</p>

SUMMARY:Promoting gender equality in physics: Barriers and opportunities
END:VEVENT
END:VCALENDAR