    BEGIN:VCALENDAR
VERSION:2.0
PRODID:-//hacksw/handcal//NONSGML v1.0//EN
  CALSCALE:GREGORIAN
BEGIN:VEVENT
DTSTART:20160529T000000Z
DTEND:20160610T000000Z
UID:w7
DTSTAMP:20260423T230921Z
DESCRIPTION:<p>The purpose of the workshop is to bring together particle physicists, cosmologists, and astrophysicists, to discuss observational progress and new theoretical ideas aimed to utilize cosmological and astrophysical data as a probe for physics beyond the Standard Model.</p>

SUMMARY:Cosmological probes of fundamental physics
END:VEVENT
END:VCALENDAR