    BEGIN:VCALENDAR
VERSION:2.0
PRODID:-//hacksw/handcal//NONSGML v1.0//EN
  CALSCALE:GREGORIAN
BEGIN:VEVENT
DTSTART:20220915T000000Z
DTEND:20220922T000000Z
UID:w76
DTSTAMP:20260425T231013Z
DESCRIPTION:<p>The school will focus on the physics of Rydberg systems and adjacent fields. In particular, systems governed by long-range interactions, such as Rydberg atoms, magnetic atoms, dipolar molecules, and artificial atoms. We will deal with ultracold atoms, quantum optics and quantum computation, Rydberg excitations in the solid state, and more.</p>

SUMMARY:Giant Interactions in Rydberg Systems
END:VEVENT
END:VCALENDAR