BEGIN:VCALENDAR
VERSION:2.0
PRODID:-//hacksw/handcal//NONSGML v1.0//EN
CALSCALE:GREGORIAN
BEGIN:VEVENT
DTSTART:20101116T163000Z
DTEND:20101116T163000Z
UID:e10005
DTSTAMP:20260421T095223Z
LOCATION:
DESCRIPTION:קפה מדע
SUMMARY:קפה מדע
END:VEVENT
END:VCALENDAR