BEGIN:VCALENDAR
VERSION:2.0
PRODID:-//hacksw/handcal//NONSGML v1.0//EN
CALSCALE:GREGORIAN
BEGIN:VEVENT
DTSTART:20110407T081500Z
DTEND:20110407T093000Z
UID:e10041
DTSTAMP:20260420T210427Z
LOCATION:Edna and K.B. Weissman Building of Physical Sciences
DESCRIPTION:Einstein&#8217\;s Universe and Gravitational Waves
SUMMARY:Einstein&#8217\;s Universe and Gravitational Waves
END:VEVENT
END:VCALENDAR