BEGIN:VCALENDAR
VERSION:2.0
PRODID:-//hacksw/handcal//NONSGML v1.0//EN
CALSCALE:GREGORIAN
BEGIN:VEVENT
DTSTART:20101109T080000Z
DTEND:20101109T090000Z
UID:e10047
DTSTAMP:20260421T115645Z
LOCATION:Arthur and Rochelle Belfer Building for Biomedical Research
DESCRIPTION:Recruitment of Polycomb Group complexes to silence chromatin and regulate genome function
SUMMARY:Recruitment of Polycomb Group complexes to silence chromatin and regulate genome function
END:VEVENT
END:VCALENDAR