BEGIN:VCALENDAR
VERSION:2.0
PRODID:-//hacksw/handcal//NONSGML v1.0//EN
CALSCALE:GREGORIAN
BEGIN:VEVENT
DTSTART:20101219T064500Z
DTEND:20101219T064500Z
UID:e10053
DTSTAMP:20260421T233046Z
LOCATION:Dolfi and Lola Ebner Auditorium
DESCRIPTION:Symposium in Immunology In honor of Prof. Michael Sela
SUMMARY:Symposium in Immunology In honor of Prof. Michael Sela
END:VEVENT
END:VCALENDAR