BEGIN:VCALENDAR
VERSION:2.0
PRODID:-//hacksw/handcal//NONSGML v1.0//EN
CALSCALE:GREGORIAN
BEGIN:VEVENT
DTSTART:20110103T161500Z
DTEND:20110103T161500Z
UID:e10059
DTSTAMP:20260421T111249Z
LOCATION:
DESCRIPTION:Meetings at the Frontiers of Science
SUMMARY:Meetings at the Frontiers of Science
END:VEVENT
END:VCALENDAR