BEGIN:VCALENDAR
VERSION:2.0
PRODID:-//hacksw/handcal//NONSGML v1.0//EN
CALSCALE:GREGORIAN
BEGIN:VEVENT
DTSTART:20101123T173000Z
DTEND:20101123T173000Z
UID:e10068
DTSTAMP:20260421T055216Z
LOCATION:Michael Sela Auditorium
DESCRIPTION:"No Borders" - A tribute to singer Dalida
SUMMARY:"No Borders" - A tribute to singer Dalida
END:VEVENT
END:VCALENDAR