BEGIN:VCALENDAR
VERSION:2.0
PRODID:-//hacksw/handcal//NONSGML v1.0//EN
CALSCALE:GREGORIAN
BEGIN:VEVENT
DTSTART:20101122T113000Z
DTEND:20101122T113000Z
UID:e10104
DTSTAMP:20260424T132818Z
LOCATION:Jacob Ziskind Building
DESCRIPTION:Subexponential lower bounds for randomized pivoting rules  for the simplex algorithm
SUMMARY:Subexponential lower bounds for randomized pivoting rules  for the simplex algorithm
END:VEVENT
END:VCALENDAR