BEGIN:VCALENDAR
VERSION:2.0
PRODID:-//hacksw/handcal//NONSGML v1.0//EN
CALSCALE:GREGORIAN
BEGIN:VEVENT
DTSTART:20101123T080000Z
DTEND:20101123T080000Z
UID:e10110
DTSTAMP:20260421T215233Z
LOCATION:Perlman Chemical Sciences Building
DESCRIPTION:Materials & Interfaces special Seminar
SUMMARY:Materials & Interfaces special Seminar
END:VEVENT
END:VCALENDAR