BEGIN:VCALENDAR
VERSION:2.0
PRODID:-//hacksw/handcal//NONSGML v1.0//EN
CALSCALE:GREGORIAN
BEGIN:VEVENT
DTSTART:20101130T091500Z
DTEND:20101130T091500Z
UID:e10161
DTSTAMP:20260419T164146Z
LOCATION:Wolfson Building for Biological Research
DESCRIPTION:How can the blood clotting system cope with noise?
SUMMARY:How can the blood clotting system cope with noise?
END:VEVENT
END:VCALENDAR