BEGIN:VCALENDAR
VERSION:2.0
PRODID:-//hacksw/handcal//NONSGML v1.0//EN
CALSCALE:GREGORIAN
BEGIN:VEVENT
DTSTART:20101221T163000Z
DTEND:20101221T163000Z
UID:e10200
DTSTAMP:20260421T184041Z
LOCATION:
DESCRIPTION:קפה מדע
SUMMARY:קפה מדע
END:VEVENT
END:VCALENDAR