BEGIN:VCALENDAR
VERSION:2.0
PRODID:-//hacksw/handcal//NONSGML v1.0//EN
CALSCALE:GREGORIAN
BEGIN:VEVENT
DTSTART:20101216T080000Z
DTEND:20101216T080000Z
UID:e10245
DTSTAMP:20260422T024507Z
LOCATION:Arthur and Rochelle Belfer Building for Biomedical Research
DESCRIPTION:Studying the Relationship between Genome Structure and Function
SUMMARY:Studying the Relationship between Genome Structure and Function
END:VEVENT
END:VCALENDAR