BEGIN:VCALENDAR
VERSION:2.0
PRODID:-//hacksw/handcal//NONSGML v1.0//EN
CALSCALE:GREGORIAN
BEGIN:VEVENT
DTSTART:20101221T080000Z
DTEND:20101221T080000Z
UID:e10248
DTSTAMP:20260422T113903Z
LOCATION:Helen and Milton A. Kimmelman Building
DESCRIPTION:Organic Chemistry - Departmental Seminar
SUMMARY:Organic Chemistry - Departmental Seminar
END:VEVENT
END:VCALENDAR