BEGIN:VCALENDAR
VERSION:2.0
PRODID:-//hacksw/handcal//NONSGML v1.0//EN
CALSCALE:GREGORIAN
BEGIN:VEVENT
DTSTART:20101221T080000Z
DTEND:20101221T090000Z
UID:e10257
DTSTAMP:20260421T182754Z
LOCATION:Ullmann Building of Life Sciences
DESCRIPTION:"A drop in the ocean: patterns and potential mechanisms of marine microbial interactions"
SUMMARY:"A drop in the ocean: patterns and potential mechanisms of marine microbial interactions"
END:VEVENT
END:VCALENDAR