BEGIN:VCALENDAR
VERSION:2.0
PRODID:-//hacksw/handcal//NONSGML v1.0//EN
CALSCALE:GREGORIAN
BEGIN:VEVENT
DTSTART:20110120T060000Z
DTEND:20110120T070000Z
UID:e10260
DTSTAMP:20260424T171422Z
LOCATION:Gerhard M.J. Schmidt Lecture Hall
DESCRIPTION:Magnetic Resonance Seminar
SUMMARY:Magnetic Resonance Seminar
END:VEVENT
END:VCALENDAR