BEGIN:VCALENDAR
VERSION:2.0
PRODID:-//hacksw/handcal//NONSGML v1.0//EN
CALSCALE:GREGORIAN
BEGIN:VEVENT
DTSTART:20110118T110000Z
DTEND:20110118T110000Z
UID:e10317
DTSTAMP:20260421T122537Z
LOCATION:Dolfi and Lola Ebner Auditorium
DESCRIPTION:Ode To Memory A mini-series devoted to memory in cinema
SUMMARY:Ode To Memory A mini-series devoted to memory in cinema
END:VEVENT
END:VCALENDAR