BEGIN:VCALENDAR
VERSION:2.0
PRODID:-//hacksw/handcal//NONSGML v1.0//EN
CALSCALE:GREGORIAN
BEGIN:VEVENT
DTSTART:20110110T080000Z
DTEND:20110110T093000Z
UID:e10359
DTSTAMP:20260422T155333Z
LOCATION:Gerhard M.J. Schmidt Lecture Hall
DESCRIPTION:Faculty of Chemistry Collquium - Prof. Francois Diederich\, Jan 10\, 2011 
SUMMARY:Faculty of Chemistry Collquium - Prof. Francois Diederich\, Jan 10\, 2011 
END:VEVENT
END:VCALENDAR