BEGIN:VCALENDAR
VERSION:2.0
PRODID:-//hacksw/handcal//NONSGML v1.0//EN
CALSCALE:GREGORIAN
BEGIN:VEVENT
DTSTART:20110112T101500Z
DTEND:20110112T101500Z
UID:e10374
DTSTAMP:20260423T141757Z
LOCATION:Edna and K.B. Weissman Building of Physical Sciences
DESCRIPTION:Rydberg non-linear optics
SUMMARY:Rydberg non-linear optics
END:VEVENT
END:VCALENDAR