BEGIN:VCALENDAR
VERSION:2.0
PRODID:-//hacksw/handcal//NONSGML v1.0//EN
CALSCALE:GREGORIAN
BEGIN:VEVENT
DTSTART:20110119T081500Z
DTEND:20110119T081500Z
UID:e10383
DTSTAMP:20260422T074250Z
LOCATION:Edna and K.B. Weissman Building of Physical Sciences
DESCRIPTION:The Next Decade of Radio Astronomy Research: New opportunities for Israeli scientists
SUMMARY:The Next Decade of Radio Astronomy Research: New opportunities for Israeli scientists
END:VEVENT
END:VCALENDAR