BEGIN:VCALENDAR
VERSION:2.0
PRODID:-//hacksw/handcal//NONSGML v1.0//EN
CALSCALE:GREGORIAN
BEGIN:VEVENT
DTSTART:20110215T103000Z
DTEND:20110215T103000Z
UID:e10392
DTSTAMP:20260422T172120Z
LOCATION:Wolfson Building for Biological Research
DESCRIPTION:"Principles of dynamic gene regulation in mammals"
SUMMARY:"Principles of dynamic gene regulation in mammals"
END:VEVENT
END:VCALENDAR