BEGIN:VCALENDAR
VERSION:2.0
PRODID:-//hacksw/handcal//NONSGML v1.0//EN
CALSCALE:GREGORIAN
BEGIN:VEVENT
DTSTART:20110215T110000Z
DTEND:20110215T110000Z
UID:e10479
DTSTAMP:20260423T071034Z
LOCATION:Helen and Milton A. Kimmelman Building
DESCRIPTION:The Role of DNA Shape in Protein-DNA Recognition
SUMMARY:The Role of DNA Shape in Protein-DNA Recognition
END:VEVENT
END:VCALENDAR