BEGIN:VCALENDAR
VERSION:2.0
PRODID:-//hacksw/handcal//NONSGML v1.0//EN
CALSCALE:GREGORIAN
BEGIN:VEVENT
DTSTART:20110312T173000Z
DTEND:20110312T173000Z
UID:e10503
DTSTAMP:20260422T114918Z
LOCATION:Michael Sela Auditorium
DESCRIPTION:"Valentino" - Beit Lessin Theater
SUMMARY:"Valentino" - Beit Lessin Theater
END:VEVENT
END:VCALENDAR