BEGIN:VCALENDAR
VERSION:2.0
PRODID:-//hacksw/handcal//NONSGML v1.0//EN
CALSCALE:GREGORIAN
BEGIN:VEVENT
DTSTART:20110228T070000Z
DTEND:20110228T070000Z
UID:e10536
DTSTAMP:20260420T183411Z
LOCATION:Arthur and Rochelle Belfer Building for Biomedical Research
DESCRIPTION:Ecology of antibiotic resistance
SUMMARY:Ecology of antibiotic resistance
END:VEVENT
END:VCALENDAR