BEGIN:VCALENDAR
VERSION:2.0
PRODID:-//hacksw/handcal//NONSGML v1.0//EN
CALSCALE:GREGORIAN
BEGIN:VEVENT
DTSTART:20110220T080000Z
DTEND:20110220T080000Z
UID:e10545
DTSTAMP:20260422T043044Z
LOCATION:Arthur and Rochelle Belfer Building for Biomedical Research
DESCRIPTION:Unraveling the structure of time in the brain
SUMMARY:Unraveling the structure of time in the brain
END:VEVENT
END:VCALENDAR