BEGIN:VCALENDAR
VERSION:2.0
PRODID:-//hacksw/handcal//NONSGML v1.0//EN
CALSCALE:GREGORIAN
BEGIN:VEVENT
DTSTART:20110223T101500Z
DTEND:20110223T101500Z
UID:e10551
DTSTAMP:20260422T023910Z
LOCATION:
DESCRIPTION:The detectability lemma and area laws in quantum spin systems
SUMMARY:The detectability lemma and area laws in quantum spin systems
END:VEVENT
END:VCALENDAR