BEGIN:VCALENDAR
VERSION:2.0
PRODID:-//hacksw/handcal//NONSGML v1.0//EN
CALSCALE:GREGORIAN
BEGIN:VEVENT
DTSTART:20110409T180000Z
DTEND:20110409T180000Z
UID:e10614
DTSTAMP:20260422T051628Z
LOCATION:Michael Sela Auditorium
DESCRIPTION:Entertainment-"Short and to the Point"
SUMMARY:Entertainment-"Short and to the Point"
END:VEVENT
END:VCALENDAR