BEGIN:VCALENDAR
VERSION:2.0
PRODID:-//hacksw/handcal//NONSGML v1.0//EN
CALSCALE:GREGORIAN
BEGIN:VEVENT
DTSTART:20110524T084500Z
DTEND:20110524T100000Z
UID:e10623
DTSTAMP:20260421T205355Z
LOCATION:
DESCRIPTION:"Higher spin theories and holography"
SUMMARY:"Higher spin theories and holography"
END:VEVENT
END:VCALENDAR