BEGIN:VCALENDAR
VERSION:2.0
PRODID:-//hacksw/handcal//NONSGML v1.0//EN
CALSCALE:GREGORIAN
BEGIN:VEVENT
DTSTART:20110331T090000Z
DTEND:20110331T090000Z
UID:e10659
DTSTAMP:20260421T152730Z
LOCATION:
DESCRIPTION:Using body-anchored priors for identifying actions in single images
SUMMARY:Using body-anchored priors for identifying actions in single images
END:VEVENT
END:VCALENDAR