BEGIN:VCALENDAR
VERSION:2.0
PRODID:-//hacksw/handcal//NONSGML v1.0//EN
CALSCALE:GREGORIAN
BEGIN:VEVENT
DTSTART:20110329T104500Z
DTEND:20110329T123000Z
UID:e10680
DTSTAMP:20260420T214405Z
LOCATION:Edna and K.B. Weissman Building of Physical Sciences
DESCRIPTION:''(De)Constructing a Natural and Flavorful Supersymmetric Standard Model''
SUMMARY:''(De)Constructing a Natural and Flavorful Supersymmetric Standard Model''
END:VEVENT
END:VCALENDAR