BEGIN:VCALENDAR
VERSION:2.0
PRODID:-//hacksw/handcal//NONSGML v1.0//EN
CALSCALE:GREGORIAN
BEGIN:VEVENT
DTSTART:20110512T093000Z
DTEND:20110512T093000Z
UID:e10683
DTSTAMP:20260422T043043Z
LOCATION:Ullmann Building of Life Sciences
DESCRIPTION:Some like it hot &#8211\; Biomolecule Analytics using Microscale Thermophoresis
SUMMARY:Some like it hot &#8211\; Biomolecule Analytics using Microscale Thermophoresis
END:VEVENT
END:VCALENDAR