BEGIN:VCALENDAR
VERSION:2.0
PRODID:-//hacksw/handcal//NONSGML v1.0//EN
CALSCALE:GREGORIAN
BEGIN:VEVENT
DTSTART:20110526T060000Z
DTEND:20110526T060000Z
UID:e10689
DTSTAMP:20260421T202428Z
LOCATION:Gerhard M.J. Schmidt Lecture Hall
DESCRIPTION:MAGNETIC RESONANCE SEMINAR
SUMMARY:MAGNETIC RESONANCE SEMINAR
END:VEVENT
END:VCALENDAR