BEGIN:VCALENDAR
VERSION:2.0
PRODID:-//hacksw/handcal//NONSGML v1.0//EN
CALSCALE:GREGORIAN
BEGIN:VEVENT
DTSTART:20110411T080000Z
DTEND:20110411T080000Z
UID:e10725
DTSTAMP:20260422T041603Z
LOCATION:
DESCRIPTION:Towards a Conjecture of Kostant 
SUMMARY:Towards a Conjecture of Kostant 
END:VEVENT
END:VCALENDAR