BEGIN:VCALENDAR
VERSION:2.0
PRODID:-//hacksw/handcal//NONSGML v1.0//EN
CALSCALE:GREGORIAN
BEGIN:VEVENT
DTSTART:20110412T080000Z
DTEND:20110412T093000Z
UID:e10734
DTSTAMP:20260422T044132Z
LOCATION:Arthur and Rochelle Belfer Building for Biomedical Research
DESCRIPTION:Open Source Drug Discovery
SUMMARY:Open Source Drug Discovery
END:VEVENT
END:VCALENDAR