BEGIN:VCALENDAR
VERSION:2.0
PRODID:-//hacksw/handcal//NONSGML v1.0//EN
CALSCALE:GREGORIAN
BEGIN:VEVENT
DTSTART:20121205T120000Z
DTEND:20121205T140000Z
UID:e10776
DTSTAMP:20260423T033615Z
LOCATION:Dolfi and Lola Ebner Auditorium
DESCRIPTION:CANCELED - Weizmann Memorial Lectures
SUMMARY:CANCELED - Weizmann Memorial Lectures
END:VEVENT
END:VCALENDAR