BEGIN:VCALENDAR
VERSION:2.0
PRODID:-//hacksw/handcal//NONSGML v1.0//EN
CALSCALE:GREGORIAN
BEGIN:VEVENT
DTSTART:20110605T093000Z
DTEND:20110605T110000Z
UID:e10790
DTSTAMP:20260422T010020Z
LOCATION:Dannie N. Heineman Laboratory
DESCRIPTION:Astrophysics Seminar
SUMMARY:Astrophysics Seminar
END:VEVENT
END:VCALENDAR