BEGIN:VCALENDAR
VERSION:2.0
PRODID:-//hacksw/handcal//NONSGML v1.0//EN
CALSCALE:GREGORIAN
BEGIN:VEVENT
DTSTART:20110517T110000Z
DTEND:20110517T120000Z
UID:e10796
DTSTAMP:20260423T095613Z
LOCATION:Helen and Milton A. Kimmelman Building
DESCRIPTION:Structural mechanisms for ubiquitin regulation of protein-membrane association
SUMMARY:Structural mechanisms for ubiquitin regulation of protein-membrane association
END:VEVENT
END:VCALENDAR