BEGIN:VCALENDAR
VERSION:2.0
PRODID:-//hacksw/handcal//NONSGML v1.0//EN
CALSCALE:GREGORIAN
BEGIN:VEVENT
DTSTART:20110523T113000Z
DTEND:20110523T113000Z
UID:e10811
DTSTAMP:20260421T071337Z
LOCATION:
DESCRIPTION:Clustering and Approximating High-Dimensional  Streaming Data Using Coresets
SUMMARY:Clustering and Approximating High-Dimensional  Streaming Data Using Coresets
END:VEVENT
END:VCALENDAR