BEGIN:VCALENDAR
VERSION:2.0
PRODID:-//hacksw/handcal//NONSGML v1.0//EN
CALSCALE:GREGORIAN
BEGIN:VEVENT
DTSTART:20110606T100000Z
DTEND:20110606T100000Z
UID:e10853
DTSTAMP:20260422T203625Z
LOCATION:
DESCRIPTION:Image Classification with Invariant Representations 
SUMMARY:Image Classification with Invariant Representations 
END:VEVENT
END:VCALENDAR